BEGIN:VCALENDAR
VERSION:2.0
PRODID:-//www.serve.nebraska.gov//NONSGML kigkonsult.se iCalcreator 2.30.10
 //
CALSCALE:GREGORIAN
METHOD:PUBLISH
UID:6352ea9b-a093-4fef-920d-5382eba3685d
X-WR-CALDESC:
X-WR-RELCALID:c37fe16e82a2ffb95e5897b841c3d7b6
X-WR-TIMEZONE:America/Chicago
BEGIN:VTIMEZONE
TZID:America/Chicago
BEGIN:STANDARD
TZNAME:CST
DTSTART:20191103T020000
TZOFFSETFROM:-0500
TZOFFSETTO:-0600
RDATE:20201101T020000
END:STANDARD
BEGIN:DAYLIGHT
TZNAME:CDT
DTSTART:20190310T020000
TZOFFSETFROM:-0600
TZOFFSETTO:-0500
RDATE:20200308T020000
RDATE:20210314T020000
END:DAYLIGHT
END:VTIMEZONE
BEGIN:VEVENT
UID:9c4bb3ff-21ef-45a0-8c62-91a1b44a437b
DTSTAMP:20260423T200749Z
DESCRIPTION:
DTSTART;TZID=America/Chicago:20200225T120000
DTEND;TZID=America/Chicago:20200225T130000
LOCATION:
SUMMARY:AmeriCorps/National Service Committee Meeting
END:VEVENT
END:VCALENDAR
