BEGIN:VCALENDAR
VERSION:2.0
PRODID:-//www.serve.nebraska.gov//NONSGML kigkonsult.se iCalcreator 2.30.10
 //
CALSCALE:GREGORIAN
METHOD:PUBLISH
UID:99ea4e49-ba0d-49ad-afa5-f17ba3692b4e
X-WR-CALDESC:
X-WR-RELCALID:2ebf770db7970fe512f5d8af27c6514d
X-WR-TIMEZONE:America/Chicago
BEGIN:VTIMEZONE
TZID:America/Chicago
BEGIN:STANDARD
TZNAME:CST
DTSTART:20191103T020000
TZOFFSETFROM:-0500
TZOFFSETTO:-0600
RDATE:20201101T020000
END:STANDARD
BEGIN:DAYLIGHT
TZNAME:CDT
DTSTART:20200308T020000
TZOFFSETFROM:-0600
TZOFFSETTO:-0500
RDATE:20210314T020000
END:DAYLIGHT
END:VTIMEZONE
BEGIN:VEVENT
UID:62329869-4f75-4e7e-a4c8-9204f12bb56b
DTSTAMP:20260419T135310Z
DESCRIPTION:
DTSTART;TZID=America/Chicago:20200402T120000
DTEND;TZID=America/Chicago:20200402T130000
LOCATION:
SUMMARY:Executive Committee Meeting
END:VEVENT
END:VCALENDAR
