BEGIN:VCALENDAR
VERSION:2.0
PRODID:-//www.serve.nebraska.gov//NONSGML kigkonsult.se iCalcreator 2.30.10
 //
CALSCALE:GREGORIAN
METHOD:PUBLISH
UID:552e3e9b-f8e1-4ce4-9618-5fb46a9bcd44
X-WR-CALDESC:
X-WR-RELCALID:72bc11076a78e18380b1e26cf716e33e
X-WR-TIMEZONE:America/Chicago
BEGIN:VTIMEZONE
TZID:America/Chicago
BEGIN:STANDARD
TZNAME:CST
DTSTART:20191103T020000
TZOFFSETFROM:-0500
TZOFFSETTO:-0600
RDATE:20201101T020000
RDATE:20211107T020000
END:STANDARD
BEGIN:DAYLIGHT
TZNAME:CDT
DTSTART:20200308T020000
TZOFFSETFROM:-0600
TZOFFSETTO:-0500
RDATE:20210314T020000
END:DAYLIGHT
END:VTIMEZONE
BEGIN:VEVENT
UID:e257f3ea-9416-495c-bca6-f839cc24ba39
DTSTAMP:20260422T013118Z
DESCRIPTION:
DTSTART;TZID=America/Chicago:20200616T120000
DTEND;TZID=America/Chicago:20200616T130000
LOCATION:
SUMMARY:Finance Committee Meeting
END:VEVENT
END:VCALENDAR
