BEGIN:VCALENDAR
VERSION:2.0
PRODID:-//www.serve.nebraska.gov//NONSGML kigkonsult.se iCalcreator 2.30.10
 //
CALSCALE:GREGORIAN
METHOD:PUBLISH
UID:9c0c665e-f718-4a3d-960e-effdd7ea02e0
X-WR-CALDESC:
X-WR-RELCALID:3e6cd5e56edaba9cab54637c4a9a101e
X-WR-TIMEZONE:America/Chicago
BEGIN:VTIMEZONE
TZID:America/Chicago
BEGIN:STANDARD
TZNAME:CST
DTSTART:20191103T020000
TZOFFSETFROM:-0500
TZOFFSETTO:-0600
RDATE:20201101T020000
RDATE:20211107T020000
END:STANDARD
BEGIN:DAYLIGHT
TZNAME:CDT
DTSTART:20200308T020000
TZOFFSETFROM:-0600
TZOFFSETTO:-0500
RDATE:20210314T020000
END:DAYLIGHT
END:VTIMEZONE
BEGIN:VEVENT
UID:32e52542-bf54-4290-99f1-f4d87e802f45
DTSTAMP:20260421T191801Z
DESCRIPTION:
DTSTART;TZID=America/Chicago:20200813T120000
DTEND;TZID=America/Chicago:20200813T130000
LOCATION:
SUMMARY:Community Volunteer Committee Meeting
END:VEVENT
END:VCALENDAR
