BEGIN:VCALENDAR
VERSION:2.0
PRODID:-//www.serve.nebraska.gov//NONSGML kigkonsult.se iCalcreator 2.30.10
 //
CALSCALE:GREGORIAN
METHOD:PUBLISH
UID:1fa0898a-ce48-43a4-b898-59ca414734c8
X-WR-CALDESC:
X-WR-RELCALID:f63ec772fbf2d9d81d48df0feff6bb7d
X-WR-TIMEZONE:America/Chicago
BEGIN:VTIMEZONE
TZID:America/Chicago
BEGIN:STANDARD
TZNAME:CST
DTSTART:20251102T020000
TZOFFSETFROM:-0500
TZOFFSETTO:-0600
RDATE:20261101T020000
END:STANDARD
BEGIN:DAYLIGHT
TZNAME:CDT
DTSTART:20260308T020000
TZOFFSETFROM:-0600
TZOFFSETTO:-0500
RDATE:20270314T020000
END:DAYLIGHT
END:VTIMEZONE
BEGIN:VEVENT
UID:40755587-ada0-4c63-939b-ba6246f80779
DTSTAMP:20260421T161102Z
DESCRIPTION:
DTSTART;TZID=America/Chicago:20260419T050000
DTEND;TZID=America/Chicago:20260425T050001
LOCATION:
SUMMARY:National Volunteer Week
END:VEVENT
END:VCALENDAR
